BEGIN:VCALENDAR
VERSION:2.0
PRODID:-//Ville de Carentan-les-Marais - ECPv6.15.20//NONSGML v1.0//EN
CALSCALE:GREGORIAN
METHOD:PUBLISH
X-WR-CALNAME:Ville de Carentan-les-Marais
X-ORIGINAL-URL:https://carentanlesmarais.fr
X-WR-CALDESC:Évènements pour Ville de Carentan-les-Marais
REFRESH-INTERVAL;VALUE=DURATION:PT1H
X-Robots-Tag:noindex
X-PUBLISHED-TTL:PT1H
BEGIN:VTIMEZONE
TZID:Europe/Paris
BEGIN:DAYLIGHT
TZOFFSETFROM:+0100
TZOFFSETTO:+0200
TZNAME:CEST
DTSTART:20150329T010000
END:DAYLIGHT
BEGIN:STANDARD
TZOFFSETFROM:+0200
TZOFFSETTO:+0100
TZNAME:CET
DTSTART:20151025T010000
END:STANDARD
BEGIN:DAYLIGHT
TZOFFSETFROM:+0100
TZOFFSETTO:+0200
TZNAME:CEST
DTSTART:20160327T010000
END:DAYLIGHT
BEGIN:STANDARD
TZOFFSETFROM:+0200
TZOFFSETTO:+0100
TZNAME:CET
DTSTART:20161030T010000
END:STANDARD
BEGIN:DAYLIGHT
TZOFFSETFROM:+0100
TZOFFSETTO:+0200
TZNAME:CEST
DTSTART:20170326T010000
END:DAYLIGHT
BEGIN:STANDARD
TZOFFSETFROM:+0200
TZOFFSETTO:+0100
TZNAME:CET
DTSTART:20171029T010000
END:STANDARD
END:VTIMEZONE
BEGIN:VEVENT
DTSTART;VALUE=DATE:20160313
DTEND;VALUE=DATE:20160314
DTSTAMP:20260420T072344
CREATED:20160311T160614Z
LAST-MODIFIED:20160311T160614Z
UID:2330-1457827200-1457913599@carentanlesmarais.fr
SUMMARY:Judo : stage et animations
DESCRIPTION:
URL:https://carentanlesmarais.fr/evenement/judo-stage-animations/
LOCATION:Gymnase Jean Truffaut\, Carentan
ATTACH;FMTTYPE=image/jpeg:https://carentanlesmarais.fr/wp-content/uploads/2016/03/Maquette-Affiche-Judo-2016-V2-1024x768-1024x768-50.jpg
END:VEVENT
END:VCALENDAR