BEGIN:VCALENDAR
VERSION:2.0
PRODID:-//Ville de Carentan-les-Marais - ECPv6.15.20//NONSGML v1.0//EN
CALSCALE:GREGORIAN
METHOD:PUBLISH
X-ORIGINAL-URL:https://carentanlesmarais.fr
X-WR-CALDESC:Évènements pour Ville de Carentan-les-Marais
REFRESH-INTERVAL;VALUE=DURATION:PT1H
X-Robots-Tag:noindex
X-PUBLISHED-TTL:PT1H
BEGIN:VTIMEZONE
TZID:Europe/Paris
BEGIN:DAYLIGHT
TZOFFSETFROM:+0100
TZOFFSETTO:+0200
TZNAME:CEST
DTSTART:20150329T010000
END:DAYLIGHT
BEGIN:STANDARD
TZOFFSETFROM:+0200
TZOFFSETTO:+0100
TZNAME:CET
DTSTART:20151025T010000
END:STANDARD
BEGIN:DAYLIGHT
TZOFFSETFROM:+0100
TZOFFSETTO:+0200
TZNAME:CEST
DTSTART:20160327T010000
END:DAYLIGHT
BEGIN:STANDARD
TZOFFSETFROM:+0200
TZOFFSETTO:+0100
TZNAME:CET
DTSTART:20161030T010000
END:STANDARD
BEGIN:DAYLIGHT
TZOFFSETFROM:+0100
TZOFFSETTO:+0200
TZNAME:CEST
DTSTART:20170326T010000
END:DAYLIGHT
BEGIN:STANDARD
TZOFFSETFROM:+0200
TZOFFSETTO:+0100
TZNAME:CET
DTSTART:20171029T010000
END:STANDARD
END:VTIMEZONE
BEGIN:VEVENT
DTSTART;VALUE=DATE:20160405
DTEND;VALUE=DATE:20160419
DTSTAMP:20260420T120610
CREATED:20160314T144824Z
LAST-MODIFIED:20160314T144824Z
UID:2343-1459814400-1461023999@carentanlesmarais.fr
SUMMARY:Galerie d'Art : J. Billiau
DESCRIPTION:Du 5 au 18 avril : J. Billiau \n  \nVoir le planning 2016 complet
URL:https://carentanlesmarais.fr/evenement/galerie-dart-j-billiau/
LOCATION:Galerie d’Art\, Rue du Château\, Carentan
ATTACH;FMTTYPE=image/jpeg:https://carentanlesmarais.fr/wp-content/uploads/2016/01/Gaelrie-dart-1024x768.jpg
END:VEVENT
BEGIN:VEVENT
DTSTART;VALUE=DATE:20160409
DTEND;VALUE=DATE:20160411
DTSTAMP:20260420T120610
CREATED:20160404T111914Z
LAST-MODIFIED:20160404T111914Z
UID:2567-1460160000-1460332799@carentanlesmarais.fr
SUMMARY:Créakid'z et les jouets prennent vie
DESCRIPTION:
URL:https://carentanlesmarais.fr/evenement/creakidz-jouets-prennent-vie/
LOCATION:Gymnase du Haut-Dick\, Haut-Dick\, Carentan
ATTACH;FMTTYPE=image/jpeg:https://carentanlesmarais.fr/wp-content/uploads/2016/04/20160404091648-1024x768.jpg
END:VEVENT
BEGIN:VEVENT
DTSTART;VALUE=DATE:20160409
DTEND;VALUE=DATE:20160418
DTSTAMP:20260420T120610
CREATED:20160314T151814Z
LAST-MODIFIED:20160321T103409Z
UID:2366-1460160000-1460937599@carentanlesmarais.fr
SUMMARY:Fête foraine
DESCRIPTION:Place du Grand Valnoble du 9 au 17 avril. \nToutes les informations sont ici
URL:https://carentanlesmarais.fr/evenement/fete-foraine/
ATTACH;FMTTYPE=image/jpeg:https://carentanlesmarais.fr/wp-content/uploads/2016/03/Manège.jpg
END:VEVENT
END:VCALENDAR