BEGIN:VCALENDAR
VERSION:2.0
PRODID:-//Ville de Carentan-les-Marais - ECPv6.15.20//NONSGML v1.0//EN
CALSCALE:GREGORIAN
METHOD:PUBLISH
X-WR-CALNAME:Ville de Carentan-les-Marais
X-ORIGINAL-URL:https://carentanlesmarais.fr
X-WR-CALDESC:Évènements pour Ville de Carentan-les-Marais
REFRESH-INTERVAL;VALUE=DURATION:PT1H
X-Robots-Tag:noindex
X-PUBLISHED-TTL:PT1H
BEGIN:VTIMEZONE
TZID:Europe/Paris
BEGIN:DAYLIGHT
TZOFFSETFROM:+0100
TZOFFSETTO:+0200
TZNAME:CEST
DTSTART:20150329T010000
END:DAYLIGHT
BEGIN:STANDARD
TZOFFSETFROM:+0200
TZOFFSETTO:+0100
TZNAME:CET
DTSTART:20151025T010000
END:STANDARD
BEGIN:DAYLIGHT
TZOFFSETFROM:+0100
TZOFFSETTO:+0200
TZNAME:CEST
DTSTART:20160327T010000
END:DAYLIGHT
BEGIN:STANDARD
TZOFFSETFROM:+0200
TZOFFSETTO:+0100
TZNAME:CET
DTSTART:20161030T010000
END:STANDARD
BEGIN:DAYLIGHT
TZOFFSETFROM:+0100
TZOFFSETTO:+0200
TZNAME:CEST
DTSTART:20170326T010000
END:DAYLIGHT
BEGIN:STANDARD
TZOFFSETFROM:+0200
TZOFFSETTO:+0100
TZNAME:CET
DTSTART:20171029T010000
END:STANDARD
END:VTIMEZONE
BEGIN:VEVENT
DTSTART;VALUE=DATE:20160419
DTEND;VALUE=DATE:20160503
DTSTAMP:20260420T115856
CREATED:20160314T145154Z
LAST-MODIFIED:20160421T141348Z
UID:2344-1461024000-1462233599@carentanlesmarais.fr
SUMMARY:Galerie d'Art : A. Asselin et N. Jouinnet
DESCRIPTION:Du 19 avril au 2 mai : A. Asselin et N. Jouinnet \n \n \n  \nVoir le planning 2016 complet
URL:https://carentanlesmarais.fr/evenement/galerie-dart-a-asselin-n-jouinnet/
LOCATION:Galerie d’Art\, Rue du Château\, Carentan
ATTACH;FMTTYPE=image/jpeg:https://carentanlesmarais.fr/wp-content/uploads/2016/03/affiche-expo-carentan-Aude-Asselin-et-Noel-Jouininet-800x600.jpg
END:VEVENT
BEGIN:VEVENT
DTSTART;TZID=Europe/Paris:20160430T110000
DTEND;TZID=Europe/Paris:20160430T130000
DTSTAMP:20260420T115856
CREATED:20160325T143707Z
LAST-MODIFIED:20160325T143707Z
UID:2524-1462014000-1462021200@carentanlesmarais.fr
SUMMARY:Accueil des nouveaux arrivants
DESCRIPTION:Samedi 30 avril\, 11h\, cérémonie d’accueil des nouveaux arrivants de Carentan les Marais.\nLes habitants arrivés à Carentan\, Angoville au Plain\, Houesville et Saint Côme du Mont entre le 1er janvier 2015 et le 31 décembre 2015 sont conviés à la cérémonie d’accueil des nouveaux arrivants le samedi 30 avril 2016 à 11h à la salle des fêtes de Carentan les Marais. Les invitations ont été envoyées aux personnes concernées. Si vous êtes concerné et que vous n’avez pas été destinataire de cette invitation\, nous vous invitons à vous rapprocher de la mairie de Carentan les Marais.
URL:https://carentanlesmarais.fr/evenement/accueil-nouveaux-arrivants/
LOCATION:Salle des fêtes\, Rue de la Halle\, Carentan
ATTACH;FMTTYPE=image/jpeg:https://carentanlesmarais.fr/wp-content/uploads/2016/03/Nouveaux-arrivants-2014-1024x768.jpg
END:VEVENT
END:VCALENDAR